BEGIN:VCALENDAR
VERSION:2.0
PRODID:-//Stiftung Schleife - ECPv5.9.0//NONSGML v1.0//EN
CALSCALE:GREGORIAN
METHOD:PUBLISH
X-WR-CALNAME:Stiftung Schleife
X-ORIGINAL-URL:https://schleife.seiten-reich.de/en
X-WR-CALDESC:Events for Stiftung Schleife
BEGIN:VTIMEZONE
TZID:Europe/Zurich
BEGIN:DAYLIGHT
TZOFFSETFROM:+0100
TZOFFSETTO:+0200
TZNAME:CEST
DTSTART:20210328T010000
END:DAYLIGHT
BEGIN:STANDARD
TZOFFSETFROM:+0200
TZOFFSETTO:+0100
TZNAME:CET
DTSTART:20211031T010000
END:STANDARD
END:VTIMEZONE
BEGIN:VEVENT
DTSTART;TZID=Europe/Zurich:20210828T113000
DTEND;TZID=Europe/Zurich:20210828T190000
DTSTAMP:20260424T151938
CREATED:20201211T144444Z
LAST-MODIFIED:20201211T144557Z
UID:10565-1630150200-1630177200@schleife.seiten-reich.de
SUMMARY:DISCOVER YOURSELF - FOR ADULT
DESCRIPTION:[vc_row css_animation=”” row_type=”row” use_row_as_full_screen_section=”no” type=”full_width” angled_section=”no” text_align=”left” background_image_as_pattern=”without_pattern”][vc_column][vc_separator type=”normal”][/vc_column][/vc_row][vc_row css_animation=”” row_type=”row” use_row_as_full_screen_section=”no” type=”grid” angled_section=”no” text_align=”left” background_image_as_pattern=”without_pattern” z_index=””][vc_column width=”2/3″][vc_empty_space height=”20px”][vc_column_text] \nBRING COLOR INTO YOUR LIFE … (FOR ADULT)\n  \n… and find what you were not looking for! When accompanied by painting\, feelings\, memories and experiences are expressed through colors and forms. It releases creativity with the goal of being touched by the Holy Spirit\, and becoming real and free. The number of participants is limited. Materials are provided.[/vc_column_text][vc_column_text]Responsible: Michèle Rossi[/vc_column_text][vc_empty_space height=”20px”][vc_single_image image=”10496″ img_size=”medium” qode_css_animation=””][vc_column_text]Michèle Rossi[/vc_column_text][vc_empty_space height=”20px”][vc_separator type=”normal”][vc_row_inner row_type=”row” type=”full_width” text_align=”left” css_animation=””][vc_column_inner][vc_empty_space]\n	\n			\n	    \n		    ONLINE REGISTRATION	    \n	    \n		    \n		    	\n			    				    \n		    \n		    	    \n	\n			\n			\n			\n			\n		\n	[vc_empty_space][vc_column_text]We recommend signing-up early. Online registration is possible only until two days before the start of the event\, but not after this deadline due to administrative reasons. Please read the general information.[/vc_column_text][vc_empty_space height=”20px”][/vc_column_inner][/vc_row_inner]\n	\n\n	    \n        SEMINAR INFORMATION    \n\n\n    \n        \n        \n    \n\n\n\n    \n        [vc_column_text] \nDates:\n \n\nFebruary 20\, 2021\nor\nAugust 28\, 2021\n\n  \nSeminar times: Saturday\, 09.30 am – 5.00 pm \nPlace: Familienwerkstatt / Family Workshop / Red House (next to the Schleife building) \nLeitung: Michèle Rossi and the family workshop studio team \nPrice: CHF 100.– / EUR 90.– \nDiscount: 20% discount for married couples as well as pupils / trainees / students. You receive a group discount for groups of 5 or more\, please register directly with the office (office@schleife.ch / 052 233 60 80). \nNotes: *Separate course days with the same content\, registration for one date each. The number of participants is limited. Material will be provided. \n[/vc_column_text]    \n[vc_empty_space height=”20px”][vc_separator type=”normal”][vc_empty_space height=”20px”][/vc_column][vc_column width=”1/3″ css=”.vc_custom_1600792507137{background-color: #f9f5ee !important;border-radius: 3px !important;}”][vc_empty_space height=”20px”]\n    \n					\n						\n			\n							\n		\n					\n			\n	\n					\n				General Information			\n					\n[vc_empty_space height=”20px”]\n    \n					\n						\n			\n							\n		\n					\n			\n	\n					\n				Directions and parking			\n					\n[vc_empty_space height=”20px”]\n    \n					\n						\n			\n							\n		\n					\n			\n	\n					\n				Download Flyer as PDF (in German)			\n					\n[vc_empty_space height=”20px”]\n    \n					\n						\n			\n							\n		\n					\n			\n	\n					\n				Accomodations			\n					\n[vc_empty_space height=”20px”][/vc_column][/vc_row]
URL:https://schleife.seiten-reich.de/en/veranstaltungen/discover-yourself-for-adult
LOCATION:Familienwerkstatt\, Rotes Haus / Pflanzschulstrasse 17\, Winterthur\, 8400\, Schweiz
CATEGORIES:Familienwerkstatt/Family Workshop,Seminar
ATTACH;FMTTYPE=image/jpeg:https://schleife.seiten-reich.de/wp-content/uploads/2020/12/Farbe-in-meinem-Leben_Erwachsene.jpg
ORGANIZER;CN="Stiftung%20Schleife":MAILTO:office@schleife.ch
END:VEVENT
END:VCALENDAR