BEGIN:VCALENDAR
VERSION:2.0
PRODID:-//Stiftung Schleife - ECPv5.9.0//NONSGML v1.0//EN
CALSCALE:GREGORIAN
METHOD:PUBLISH
X-WR-CALNAME:Stiftung Schleife
X-ORIGINAL-URL:https://schleife.seiten-reich.de/en
X-WR-CALDESC:Events for Stiftung Schleife
BEGIN:VTIMEZONE
TZID:Europe/Zurich
BEGIN:DAYLIGHT
TZOFFSETFROM:+0100
TZOFFSETTO:+0200
TZNAME:CEST
DTSTART:20200329T010000
END:DAYLIGHT
BEGIN:STANDARD
TZOFFSETFROM:+0200
TZOFFSETTO:+0100
TZNAME:CET
DTSTART:20201025T010000
END:STANDARD
END:VTIMEZONE
BEGIN:VEVENT
DTSTART;TZID=Europe/Zurich:20201111T090000
DTEND;TZID=Europe/Zurich:20201114T180000
DTSTAMP:20260424T151157
CREATED:20201029T150304Z
LAST-MODIFIED:20201029T150422Z
UID:10239-1605085200-1605376800@schleife.seiten-reich.de
SUMMARY:WORKSHOP FOR COUNSELORS 2020/21
DESCRIPTION:[vc_row css_animation=”” row_type=”row” use_row_as_full_screen_section=”no” type=”full_width” angled_section=”no” text_align=”left” background_image_as_pattern=”without_pattern”][vc_column][vc_separator type=”normal”][/vc_column][/vc_row][vc_row css_animation=”” row_type=”row” use_row_as_full_screen_section=”no” type=”grid” angled_section=”no” text_align=”left” background_image_as_pattern=”without_pattern” z_index=”” background_color=”#f9f5ee”][vc_column width=”2/3″][vc_empty_space][vc_column_text] \n\n\n\nWORKSHOP FOR COUNSELORS 2020/21\n  \n\n\nWELL-GROUNDED – ORIENTED TOWARDS THE BIBLICAL NEW CREATION – NATURAL AND YET VERY SUPERNATURAL – PRACTICAL \n\n\n\n\nThe pastoral training includes the “Seminar for New Life Perspectives”\, an introductory block (3 days) and 6 training blocks (13 days). The well-founded and practically oriented topics bring about change in one’s own life and teach how the pastor can serve people in conversations using various tools. The entire training meets the requirements of ACC Level I “accompanying counseling”. It is possible to obtain accreditation from ACC after completing the training on a qualification day in the loop. Den Detailflyer können Siehier herunterladen oder im Sekretariat der Stiftung Schleife anfordern. \nWeitere Informationen zu Themen\, Schwerpunkten und Praxis erhalten Sie hier. \n\n\n\n[/vc_column_text][vc_separator type=”normal”][vc_column_text] \n\nINFORMATION ABOUT THE SEMINAR\n  \n\nDatesWorkshop 2020/21: \nSeminar for new life perspectives: \n\n11.–14.11.2020: MI\, 19.00 – 21.30 Uhr // DO/FR\, 9.30 – 21.30 Uhr // SA\, 9.30 – 17.00 Uhr\n\n  \nIntroduction block:\n \n\n28.–30.1.2021: DO/FR\, 09.00 – 20.00 Uhr / SA\, 09.00 – 18.00 Uhr\n\n  \n6 blocks: \n\n26./27.2. // 26./27.3. // 16./17.4. // 28./29.5.2021: FR\, 09.00 – 20.00 Uhr / SA\, 09.00 – 18.15 Uhr\n17.–19.6.2021: DO\, 09.00 – 20.00 Uhr / FR\, 09.00 – 21.30 Uhr / SA\, 09.00 – 17.00 Uhr\n9./10.7.2021: FR\, 09.00 – 20.00 Uhr / SA 09.00 – 17.00 Uhr\n\n  \nLocation: Stiftung Schleife \nResponsible:Rolf Germann\, Markus Krauer und TeamResponsible \nPrice: CHF 2’300.– / EUR 2’100.– \nDiscounts: 20% discount for married couples (please register separately) and pupils/trainees/students. For groups of 5 persons or more\, please register directly with the office (office@schleife.ch / 052 233 60 80). \nQualification day: CHF 100 \n[/vc_column_text][vc_separator type=”normal”][vc_column_text] \n\nREGISTRATION / REQUIREMENTS\n  \n\nIt is advantageous for the training if you have experience in the field of pastoral care\, as you yourself have already received pastoral care and have had pastoral discussions with other people. You need a letter of recommendation from your church leader (or pastor/mentor) to register. The workshop for pastoral workers must be attended as a whole\, including a “Seminar for New Life Perspectives”. \nTo register\, please use the corresponding form on the flyer(can also be requested from the office) or use the link below and the enclosures mentioned. After submitting the complete application documents\, they will be examined. A written confirmation that you have a place in the workshop for pastors follows. In case of a cancellation the documents will be sent back to you. \nThe number of participants is limited. \n[/vc_column_text][vc_separator type=”normal”][vc_column_text] \n\nCANCELLATION\n  \n\nIf you cancel your registration before the training starts\, we charge a processing fee of CHF 30. If you cancel during the training\, we will have to charge you the course material\, the course days already taken and a cancellation fee of CHF 150.- \n[/vc_column_text][vc_separator type=”normal”][vc_empty_space height=”40px”][/vc_column][vc_column width=”1/3″][vc_empty_space][vc_column_text] \nRESPONSIBLE\n[/vc_column_text][vc_empty_space height=”20px”][vc_single_image image=”10247″ img_size=”medium” alignment=”center” qode_css_animation=””][vc_column_text] \nRolf Germann \n[/vc_column_text][vc_separator type=”normal”][vc_empty_space height=”40px”]\n    \n					\n						\n			\n							\n		\n					\n			\n	\n					\n				General Information			\n							\n				Hier finden Sie allgemeine Informtaionen zur Veranstaltung			 \n			\n\n    \n					\n						\n			\n							\n		\n					\n			\n	\n					\n				Arrival and parking			\n							\n				So finden Sie den Weg zur Stiftung Schleife in Winterthur			 \n			\n\n    \n					\n						\n			\n							\n		\n					\n			\n	\n					\n				Download Flyer as PDF (in german)			\n							\n				Den Veranstaltungs-Flyer als PDF herunterladen			 \n			\n\n    \n					\n						\n			\n							\n		\n					\n			\n	\n					\n				Book accommodation			\n							\n				Book accommodation			 \n			\n\n    \n					\n						\n			\n							\n		\n					\n			\n	\n					\n				Online Anmelden			\n							\n				We recommend early online registration. This is possible up to 5 working days before the start of the event at the latest\, after that it is no longer possible for organizational reasons. Please note the general information.			 \n			\n[/vc_column][/vc_row]
URL:https://schleife.seiten-reich.de/en/veranstaltungen/workshop-for-counselors-2020-21
LOCATION:Stiftung Schleife\, Pflanzschulstrasse 17\, CH-Winterthur\, 8400\, Schweiz
CATEGORIES:Seminar,Teaching
ATTACH;FMTTYPE=image/jpeg:https://schleife.seiten-reich.de/wp-content/uploads/2020/09/Werkstatt-fuer-Seelsorger_Agenda.jpg
ORGANIZER;CN="Stiftung%20Schleife":MAILTO:office@schleife.ch
END:VEVENT
END:VCALENDAR