BEGIN:VCALENDAR
VERSION:2.0
PRODID:-//Stiftung Schleife - ECPv5.9.0//NONSGML v1.0//EN
CALSCALE:GREGORIAN
METHOD:PUBLISH
X-WR-CALNAME:Stiftung Schleife
X-ORIGINAL-URL:https://schleife.seiten-reich.de
X-WR-CALDESC:Veranstaltungen für Stiftung Schleife
BEGIN:VTIMEZONE
TZID:Europe/Zurich
BEGIN:DAYLIGHT
TZOFFSETFROM:+0100
TZOFFSETTO:+0200
TZNAME:CEST
DTSTART:20210328T010000
END:DAYLIGHT
BEGIN:STANDARD
TZOFFSETFROM:+0200
TZOFFSETTO:+0100
TZNAME:CET
DTSTART:20211031T010000
END:STANDARD
END:VTIMEZONE
BEGIN:VEVENT
DTSTART;TZID=Europe/Zurich:20211113T093000
DTEND;TZID=Europe/Zurich:20211113T120000
DTSTAMP:20260424T122038
CREATED:20210917T181106Z
LAST-MODIFIED:20210917T183403Z
UID:13379-1636795800-1636804800@schleife.seiten-reich.de
SUMMARY:ELTERNIMPULS
DESCRIPTION:[vc_row css_animation=““ row_type=“row“ use_row_as_full_screen_section=“no“ type=“full_width“ angled_section=“no“ text_align=“left“ background_image_as_pattern=“without_pattern“][vc_column][vc_separator type=“normal“][/vc_column][/vc_row][vc_row css_animation=““ row_type=“row“ use_row_as_full_screen_section=“no“ type=“grid“ angled_section=“no“ text_align=“left“ background_image_as_pattern=“without_pattern“ z_index=““][vc_column width=“2/3″][vc_empty_space height=“20px“][vc_column_text] \nWIE KANN ICH MEIN KIND MOTIVIEREN\n  \nKinder müssen sich vielen Anforderungen stellen\, die sie oft nicht mögen. Wie können wir sie als Eltern unterstützen\, ohne ihnen die Verantwortung abzunehmen? Ein wichtiges Ziel ist Freude an der Selbstmotivation. \nEin kurzer Input unsererseits wird die Gesprächsgrundlage sein\, um im Austausch mit einer kleinen Gruppe die eigenen Erziehungserfahrungen in einem neuen Licht sehen zu können. Freisetzung aus alten Mustern\, Bestätigung der eigenen Vater-/Mutterschaft und eine frische Begeisterung sind Ziele unseres Gebetsangebots. \n[/vc_column_text][vc_empty_space height=“20px“][vc_column_text] \nLEITUNG\n[/vc_column_text][vc_empty_space height=“20px“][vc_row_inner row_type=“row“ type=“full_width“ text_align=“left“ css_animation=““][vc_column_inner width=“1/2″][vc_single_image image=“13382″ img_size=“full“ qode_css_animation=““][vc_empty_space height=“15px“][vc_column_text] \nChristine Fuchs \n[/vc_column_text][/vc_column_inner][vc_column_inner width=“1/2″][vc_single_image image=“13384″ img_size=“full“ qode_css_animation=““][vc_empty_space height=“15px“][vc_column_text] \nAnne Osenberg \n[/vc_column_text][/vc_column_inner][/vc_row_inner][vc_row_inner row_type=“row“ type=“full_width“ text_align=“left“ css_animation=““][vc_column_inner][vc_empty_space]\n	\n			\n	    \n		    ONLINE ANMELDEN	    \n	    \n		    \n		    	\n			    				    \n		    \n		    	    \n	\n			\n			\n			\n			\n		\n	[vc_empty_space][/vc_column_inner][/vc_row_inner][vc_column_text] \nINFORMATIONEN\nDatum: Samstag\, 13. November 2021 \nZeiten: 09.30 – 12.00 Uhr \nOrt: Familienwerkstatt (Rotes Haus neben dem Schleife-Gebäude) \nLeitung: Christine Fuchs und Anne Osenberg \nPreis: CHF 40.– / EUR 36.– \nRabatte: 20%-Rabatt für Ehepaare sowie Schüler/Auszubildende/Studenten. Ab 5 Personen erhalten Sie einen Gruppenrabatt\, bitte direkt beim Office anmelden (office@schleife.ch / 052 233 60 80). \nHinweis: Teilnehmerzahl auf 8 Personen beschränkt (nach Eingang der Anmeldung). \n  \nWir empfehlen eine frühzeitige Online-Anmeldung. Diese ist bis spätestens 2 Arbeitstage vor Veranstaltungsbeginn möglich\, danach aus organisatorischen Gründen nicht mehr. Bitte beachten Sie die allgemeinen Infos. \n[/vc_column_text][vc_empty_space height=“20px“][vc_separator type=“normal“][vc_empty_space height=“20px“][vc_row_inner row_type=“row“ type=“full_width“ text_align=“left“ css_animation=““][vc_column_inner width=“1/6″][vc_icon icon_fontawesome=“fas fa-exclamation“ color=“grey“ size=“lg“][/vc_column_inner][vc_column_inner width=“2/3″][vc_column_text] \nSCHUTZKONZEPT UND ZERTIFIKATSPFLICHT\nAufgrund der Covid19-Schutzmassnahmen des Bundes gilt eine Zertifikatspflicht für unsere Seminare und Konferenzen. Bitte Schutzkonzept beachten » \n[/vc_column_text][/vc_column_inner][vc_column_inner width=“1/6″][vc_icon icon_fontawesome=“fas fa-exclamation“ color=“grey“ size=“lg“][/vc_column_inner][/vc_row_inner][vc_empty_space height=“20px“][vc_separator type=“normal“][vc_empty_space height=“20px“][vc_column_text] \nDIES KÖNNTE SIE AUCH INTERESSIEREN:\n[/vc_column_text][vc_empty_space height=“20px“]SHOP [vc_empty_space height=“20px“][vc_row_inner row_type=“row“ type=“full_width“ text_align=“left“ css_animation=““][vc_column_inner width=“1/4″][vc_single_image image=“13392″ img_size=“medium“ qode_css_animation=““][vc_empty_space height=“15px“][vc_column_text] \nEin neues Herz(Buch)Werner TannerCHF 17.50 \n[/vc_column_text][/vc_column_inner][vc_column_inner width=“1/4″][vc_single_image image=“13394″ img_size=“medium“ qode_css_animation=““][vc_empty_space height=“15px“][vc_column_text] \nHimmel auf Erden (Buch)Werner TannerCHF 15 \n[/vc_column_text][/vc_column_inner][vc_column_inner width=“1/4″][/vc_column_inner][vc_column_inner width=“1/4″][/vc_column_inner][/vc_row_inner][vc_empty_space height=“20px“][vc_separator type=“normal“][vc_empty_space height=“20px“][/vc_column][vc_column width=“1/3″ css=“.vc_custom_1600792507137{background-color: #f9f5ee !important;border-radius: 3px !important;}“][vc_empty_space height=“20px“]\n    \n					\n						\n			\n							\n		\n					\n			\n	\n					\n				Allgemeine Informationen			\n					\n[vc_empty_space height=“20px“]\n    \n					\n						\n			\n							\n		\n					\n			\n	\n					\n				Anreise und Parkplätze			\n					\n[vc_empty_space height=“20px“]\n    \n					\n						\n			\n							\n		\n					\n			\n	\n					\n				Download Flyer			\n					\n[vc_empty_space height=“20px“]\n    \n					\n						\n			\n							\n		\n					\n			\n	\n					\n				Unterkunft buchen			\n					\n[vc_empty_space height=“20px“][/vc_column][/vc_row]
URL:https://schleife.seiten-reich.de/veranstaltungen/elternimpuls
LOCATION:Familienwerkstatt\, Rotes Haus / Pflanzschulstrasse 17\, Winterthur\, 8400\, Schweiz
CATEGORIES:Familienwerkstatt
ATTACH;FMTTYPE=image/jpeg:https://schleife.seiten-reich.de/wp-content/uploads/2021/09/Elternimpuls_Motivation_Agenda.jpg
ORGANIZER;CN="Stiftung%20Schleife":MAILTO:office@schleife.ch
END:VEVENT
END:VCALENDAR