BEGIN:VCALENDAR
VERSION:2.0
PRODID:-//Stiftung Schleife - ECPv5.9.0//NONSGML v1.0//EN
CALSCALE:GREGORIAN
METHOD:PUBLISH
X-WR-CALNAME:Stiftung Schleife
X-ORIGINAL-URL:https://schleife.seiten-reich.de
X-WR-CALDESC:Veranstaltungen für Stiftung Schleife
BEGIN:VTIMEZONE
TZID:Europe/Zurich
BEGIN:DAYLIGHT
TZOFFSETFROM:+0100
TZOFFSETTO:+0200
TZNAME:CEST
DTSTART:20210328T010000
END:DAYLIGHT
BEGIN:STANDARD
TZOFFSETFROM:+0200
TZOFFSETTO:+0100
TZNAME:CET
DTSTART:20211031T010000
END:STANDARD
END:VTIMEZONE
BEGIN:VEVENT
DTSTART;TZID=Europe/Zurich:20210924T113000
DTEND;TZID=Europe/Zurich:20210925T190000
DTSTAMP:20260420T133504
CREATED:20210122T152159Z
LAST-MODIFIED:20210901T091024Z
UID:10777-1632483000-1632596400@schleife.seiten-reich.de
SUMMARY:GRUNDKURS PROPHETIE
DESCRIPTION:[vc_row css_animation=““ row_type=“row“ use_row_as_full_screen_section=“no“ type=“full_width“ angled_section=“no“ text_align=“left“ background_image_as_pattern=“without_pattern“][vc_column][vc_separator type=“normal“][/vc_column][/vc_row][vc_row css_animation=““ row_type=“row“ use_row_as_full_screen_section=“no“ type=“grid“ angled_section=“no“ text_align=“left“ background_image_as_pattern=“without_pattern“ z_index=““][vc_column width=“2/3″][vc_empty_space height=“20px“][vc_column_text] \nGOTTES STIMME HÖREN\n  Wir machen uns auf eine Reise\, auf der wir Gottes Stimme und sein Reden zu uns persönlich im Alltag entdecken. Anhand von praktischen Übungen realisieren wir\, dass wir Gott hören. Stolpersteine werden aufgedeckt und Stück für Stück abgetragen. Es gibt praktische Tipps und Leitplanken\, wie das Gehörte interpretiert und prophetische Worte weitergegeben werden können.[/vc_column_text][vc_column_text]Leitung: Nina Krauer[/vc_column_text][vc_empty_space height=“20px“][vc_single_image image=“10670″ img_size=“medium“ qode_css_animation=““][vc_column_text]Nina Krauer[/vc_column_text][vc_empty_space height=“20px“][vc_separator type=“normal“][vc_row_inner row_type=“row“ type=“full_width“ text_align=“left“ css_animation=““][vc_column_inner][vc_empty_space]\n	\n			\n	    \n		    ONLINE ANMELDEN	    \n	    \n		    \n		    	\n			    				    \n		    \n		    	    \n	\n			\n			\n			\n			\n		\n	[vc_empty_space][vc_column_text]Wir empfehlen eine frühzeitige Online-Anmeldung. Diese ist bis spätestens 2 Arbeitstage vor Veranstaltungsbeginn möglich\, danach aus organisatorischen Gründen nicht mehr. Bitte beachten Sie die allgemeinen Infos.[/vc_column_text][vc_empty_space][/vc_column_inner][/vc_row_inner]\n	\n\n	    \n        INFORMATIONEN ZUM SEMINAR    \n\n\n    \n        \n        \n    \n\n\n\n    \n        [vc_column_text] \nDatum: Freitag/Samstag\, 24./25. September 2021 \nSeminarzeiten: \n\nFR: 9.30–12.30 Uhr / 14.30–17.30 Uhr / 19.00–21.30 Uhr\nSA: 09.30–12.30 Uhr / 14.00–17.00 Uhr\n\nOrt: Stiftung Schleife \nLeitung: Nina Krauer \nPreis: CHF 160.– / EUR 145.– \nRabatte: 20%-Rabatt für Ehepaare sowie Schüler/Auszubildende/Studenten. Ab 5 Personen erhalten Sie einen Gruppenrabatt\, bitte direkt beim Office anmelden (office@schleife.ch / 052 233 60 80). \n[/vc_column_text]    \n[vc_empty_space][vc_separator type=“normal“][vc_empty_space height=“20px“][vc_column_text] \nDIES KÖNNTE SIE AUCH INTERESSIEREN:\n[/vc_column_text][vc_empty_space]SHOP [/vc_column][vc_column width=“1/3″ css=“.vc_custom_1600792507137{background-color: #f9f5ee !important;border-radius: 3px !important;}“][vc_empty_space height=“20px“]\n    \n					\n						\n			\n							\n		\n					\n			\n	\n					\n				Allgemeine Informationen			\n					\n[vc_empty_space height=“20px“]\n    \n					\n						\n			\n							\n		\n					\n			\n	\n					\n				Anreise und Parkplätze			\n					\n[vc_empty_space height=“20px“]\n    \n					\n						\n			\n							\n		\n					\n			\n	\n					\n				Download Flyer			\n					\n\n    \n					\n						\n			\n							\n		\n					\n			\n	\n					\n				Unterkunft buchen			\n					\n[vc_separator type=“normal“][/vc_column][/vc_row][vc_row css_animation=““ row_type=“row“ use_row_as_full_screen_section=“no“ type=“full_width“ angled_section=“no“ text_align=“left“ background_image_as_pattern=“without_pattern“][vc_column width=“1/4″][vc_empty_space height=“20px“][vc_single_image image=“10672″ img_size=“medium“ onclick=“custom_link“ img_link_target=“_blank“ qode_css_animation=““ link=“https://www.schleifeverlag.ch/hoerst-du-mich-ilona-ingold.html“][vc_empty_space height=“15px“][vc_column_text]Hörst Du mich Ilona Gold (Buch) CHF 22\,00[/vc_column_text][/vc_column][vc_column width=“1/4″][vc_empty_space height=“20px“][vc_single_image image=“10674″ img_size=“medium“ onclick=“custom_link“ img_link_target=“_blank“ qode_css_animation=““ link=“https://www.schleifeverlag.ch/alle-koennen-prophetisch-reden-neuauflage-steve-thompson.html“][vc_empty_space height=“15px“][vc_column_text]Alle können prophetisch reden Steve Thompson (Buch) CHF 22\,00[/vc_column_text][/vc_column][vc_column width=“1/4″][/vc_column][vc_column width=“1/4″][/vc_column][/vc_row]
URL:https://schleife.seiten-reich.de/veranstaltungen/grundkurs-prophetie
LOCATION:Stiftung Schleife\, Pflanzschulstrasse 17\, CH-Winterthur\, 8400\, Schweiz
ATTACH;FMTTYPE=image/jpeg:https://schleife.seiten-reich.de/wp-content/uploads/2020/09/Prophetie.jpg
ORGANIZER;CN="Stiftung%20Schleife":MAILTO:office@schleife.ch
END:VEVENT
END:VCALENDAR