BEGIN:VCALENDAR
VERSION:2.0
PRODID:-//Stiftung Schleife - ECPv5.9.0//NONSGML v1.0//EN
CALSCALE:GREGORIAN
METHOD:PUBLISH
X-WR-CALNAME:Stiftung Schleife
X-ORIGINAL-URL:https://schleife.seiten-reich.de
X-WR-CALDESC:Veranstaltungen für Stiftung Schleife
BEGIN:VTIMEZONE
TZID:Europe/Zurich
BEGIN:DAYLIGHT
TZOFFSETFROM:+0100
TZOFFSETTO:+0200
TZNAME:CEST
DTSTART:20210328T010000
END:DAYLIGHT
BEGIN:STANDARD
TZOFFSETFROM:+0200
TZOFFSETTO:+0100
TZNAME:CET
DTSTART:20211031T010000
END:STANDARD
END:VTIMEZONE
BEGIN:VEVENT
DTSTART;TZID=Europe/Zurich:20210508T113000
DTEND;TZID=Europe/Zurich:20210508T180000
DTSTAMP:20260424T105112
CREATED:20210115T144241Z
LAST-MODIFIED:20210827T051657Z
UID:10701-1620473400-1620496800@schleife.seiten-reich.de
SUMMARY:GRUNDKURS PROPHETISCHER TANZ
DESCRIPTION:[vc_row css_animation=““ row_type=“row“ use_row_as_full_screen_section=“no“ type=“full_width“ angled_section=“no“ text_align=“left“ background_image_as_pattern=“without_pattern“][vc_column][vc_separator type=“normal“][/vc_column][/vc_row][vc_row css_animation=““ row_type=“row“ use_row_as_full_screen_section=“no“ type=“grid“ angled_section=“no“ text_align=“left“ background_image_as_pattern=“without_pattern“ z_index=““][vc_column width=“2/3″][vc_empty_space height=“20px“][vc_column_text] \nDEINE BEWEGUNG BEWEGT\nGlaubst du\, dass Tanz ein Gebet sein kann? Kannst du dir vorstellen\, dass deine Bewegungen grosse Dinge oder Wunder bewirken können? Tanz und Bewegung sind ein Instrument für Anbetung\, Gebet und Fürbitte. Der Grundkurs Prophetischer Tanz lehrt die Teilnehmenden\, in die geistliche Welt einzutreten und durch Tanz\, Bewegungen und Ausdruck ein Stück Himmel auf die Erde zu bringen.[/vc_column_text][vc_column_text]Leitung: Simone Kunz[/vc_column_text][vc_empty_space height=“20px“][vc_single_image image=“10702″ img_size=“medium“ qode_css_animation=““][vc_column_text]Simone Kunz[/vc_column_text][vc_empty_space height=“20px“][vc_separator type=“normal“][vc_row_inner row_type=“row“ type=“full_width“ text_align=“left“ css_animation=““][vc_column_inner][vc_empty_space]\n	\n			\n	    \n		    ONLINE ANMELDEN	    \n	    \n		    \n		    	\n			    				    \n		    \n		    	    \n	\n			\n			\n			\n			\n		\n	[vc_empty_space][/vc_column_inner][/vc_row_inner]\n	\n\n	    \n        INFORMATIONEN ZUM GRUNDKURS    \n\n\n    \n        \n        \n    \n\n\n\n    \n        [vc_column_text] \nDaten: \n  20.Februar 2021 (abgesagt) oder 08. Mai 2021 oder 17.Juli 2021 oder 23. Oktober 2021   \nVier separate Tageskurse (Anmeldung jeweils für ein Datum) \nSeminarzeiten: 09.30 – 16.00 Uhr \nOrt: Stiftung Schleife \nLeitung: Simone Kunz & Team \nPreis: CHF 90.– / EUR 80.– \nRabatte: 20%-Rabatt für Ehepaare sowie Schüler/Auszubildende/Studenten. Ab 5 Personen erhalten Sie einen Gruppenrabatt\, bitte direkt beim Office anmelden (office@schleife.ch / 052 233 60 80). \n[/vc_column_text]    \n[vc_empty_space height=“20px“][vc_separator type=“normal“][vc_empty_space height=“20px“][vc_row_inner row_type=“row“ type=“full_width“ text_align=“left“ css_animation=““][vc_column_inner width=“2/3″][vc_column_text] \nGRUNDKURS PROPHETISCHER TANZ\n[/vc_column_text][vc_empty_space]Radio Maria | 13. August 2020 Interview mit Simone Kunz[/vc_column_inner][vc_column_inner width=“1/3″][vc_single_image image=“10706″ img_size=“medium“ alignment=“center“ qode_css_animation=““][/vc_column_inner][/vc_row_inner][/vc_column][vc_column width=“1/3″][vc_empty_space height=“60px“]\n    \n					\n						\n			\n							\n		\n					\n			\n	\n					\n				Allgemeine Informationen			\n					\n[vc_empty_space height=“20px“]\n    \n					\n						\n			\n							\n		\n					\n			\n	\n					\n				Anreise und Parkplätze			\n					\n[vc_empty_space height=“20px“]\n    \n					\n						\n			\n							\n		\n					\n			\n	\n					\n				Download Flyer			\n					\n[vc_empty_space height=“20px“]\n    \n					\n						\n			\n							\n		\n					\n			\n	\n					\n				Unterkunft buchen			\n					\n[vc_empty_space height=“20px“][/vc_column][/vc_row][vc_row css_animation=““ row_type=“row“ use_row_as_full_screen_section=“no“ type=“full_width“ angled_section=“no“ text_align=“left“ background_image_as_pattern=“without_pattern“][vc_column][vc_separator type=“normal“][/vc_column][/vc_row]
URL:https://schleife.seiten-reich.de/veranstaltungen/grundkurs-prophetischer-tanz/2021-05-08
LOCATION:Stiftung Schleife\, Pflanzschulstrasse 17\, CH-Winterthur\, 8400\, Schweiz
CATEGORIES:Tanz
ATTACH;FMTTYPE=image/jpeg:https://schleife.seiten-reich.de/wp-content/uploads/2021/01/Grundkurs-Prophetischer-Tanz_Agenda.jpg
ORGANIZER;CN="Stiftung%20Schleife":MAILTO:office@schleife.ch
END:VEVENT
END:VCALENDAR