BEGIN:VCALENDAR
VERSION:2.0
PRODID:-//Stiftung Schleife - ECPv5.9.0//NONSGML v1.0//EN
CALSCALE:GREGORIAN
METHOD:PUBLISH
X-WR-CALNAME:Stiftung Schleife
X-ORIGINAL-URL:https://schleife.seiten-reich.de
X-WR-CALDESC:Veranstaltungen für Stiftung Schleife
BEGIN:VTIMEZONE
TZID:Europe/Zurich
BEGIN:DAYLIGHT
TZOFFSETFROM:+0100
TZOFFSETTO:+0200
TZNAME:CEST
DTSTART:20210328T010000
END:DAYLIGHT
BEGIN:STANDARD
TZOFFSETFROM:+0200
TZOFFSETTO:+0100
TZNAME:CET
DTSTART:20211031T010000
END:STANDARD
END:VTIMEZONE
BEGIN:VEVENT
DTSTART;TZID=Europe/Zurich:20210419T110000
DTEND;TZID=Europe/Zurich:20210419T190000
DTSTAMP:20260424T135712
CREATED:20201202T142543Z
LAST-MODIFIED:20210901T091226Z
UID:10387-1618830000-1618858800@schleife.seiten-reich.de
SUMMARY:INSPIRATIONSTAG FÜR PFARRER
DESCRIPTION:[vc_row css_animation=““ row_type=“row“ use_row_as_full_screen_section=“no“ type=“full_width“ angled_section=“no“ text_align=“left“ background_image_as_pattern=“without_pattern“][vc_column][vc_separator type=“normal“][/vc_column][/vc_row][vc_row css_animation=““ row_type=“row“ use_row_as_full_screen_section=“no“ type=“grid“ angled_section=“no“ text_align=“left“ background_image_as_pattern=“without_pattern“ z_index=““][vc_column width=“2/3″][vc_empty_space height=“20px“][vc_column_text] \nFÜR PFARRER/INNEN\, PASTOREN/INNEN\, PRIESTER UND GEMEINDELEITER UND DEREN PARTNER/INNEN\n  In Pfarramt und Gemeindeleitung stehen wir in verschiedenen Herausforderungen. Die Inspirationstage bieten eine Oase im betriebsamen Alltag. Wir wollen neben anregenden Impulsen einen Raum der Begegnung\, der überregionalen Vernetzung und des kollegialen Austauschs schaffen. Die Tage sollen der Ermutigung über Denominationsgrenzen hinweg dienen.[/vc_column_text][vc_column_text]Leitung: Katharina und Thomas Bänziger[/vc_column_text][vc_empty_space height=“20px“][vc_single_image image=“8934″ img_size=“medium“ qode_css_animation=““][vc_column_text]Katharina und Thomas Bänziger[/vc_column_text][vc_empty_space height=“20px“][vc_separator type=“normal“][vc_row_inner row_type=“row“ type=“full_width“ text_align=“left“ css_animation=““][vc_column_inner width=“2/3″][vc_column_text] \nMIT PFR. ERNST GYSEL\n«Ist ein Aufbruch in unseren Kirchen möglich?» Ernst Gysel verfasste ein Buch über den Schaffhauser Erweckungsprediger im 19. Jahrhundert: David Spleiss (Schleife Verlag). Kann Gott Ähnliches in diesen Tagen in unseren Kirchgemeinden wirken? Wir werden von Ernst Gysel ermutigt und sprechen über Hoffnungen\, Fragen oder Enttäuschungen zum Thema.[/vc_column_text][/vc_column_inner][vc_column_inner width=“1/3″][vc_single_image image=“10395″ img_size=“large“ alignment=“right“ qode_css_animation=““][/vc_column_inner][/vc_row_inner][vc_row_inner row_type=“row“ type=“full_width“ text_align=“left“ css_animation=““][vc_column_inner][vc_empty_space]\n	\n			\n	    \n		    ONLINE ANMELDEN	    \n	    \n		    \n		    	\n			    				    \n		    \n		    	    \n	\n			\n			\n			\n			\n		\n	[vc_empty_space][/vc_column_inner][/vc_row_inner]\n	\n\n	    \n        INFORMATIONEN ZUM SEMINAR    \n\n\n    \n        \n        \n    \n\n\n\n    \n        [vc_column_text]Datum: Montag\, 19. April 2021 Seminarzeiten: 09.30 bis 17.00 Uhr Ort: Stiftung Schleife Leitung: Pfr. Dr. theol. Thomas Bänziger und Pfrn. Katharina Bänziger Preis: \n\nCHF 90.– / EUR 80.–\, Kollekte fürs Mittagessen\n50% Rabatt für Theologiestudierende\, Vikarinnen und Vikare\n\n  Rabatte: 20%-Rabatt für Ehepaare. Ab 5 Personen erhalten Sie einen Gruppenrabatt\, bitte direkt beim Office anmelden (office@schleife.ch / 052 233 60 80).   Verpflegung: Ein einfaches Mittagessen ist im Seminarpreis inbegriffen WICHTIGER HINWEIS: Dieser Inspirationstag wird ausschliesslich für PfarrerInnen\, Pastoren/-innen\, Priester und Gemeindeleiter und deren Partnerinnen/Partner angeboten![/vc_column_text]    \n[vc_separator type=“normal“][vc_empty_space height=“20px“][vc_row_inner row_type=“row“ type=“full_width“ text_align=“left“ css_animation=““][vc_column_inner width=“1/4″][vc_single_image image=“10455″ img_size=“medium“ qode_css_animation=““][/vc_column_inner][vc_column_inner width=“3/4″][vc_column_text] \nHINWEIS: INSPIRATIONSTAG MIT RALPH KUNZ\n  Am 22. November 2021 findet ein weiterer Inspirationstag für Pfarrer zum Thema «Alter Gott für junge Menschen – wie geht das? Inspiriation vom Youth Ministry in der neuen Welt» statt. Unser Gast ist Prof. Dr. Ralph Kunz\, Universität Zürich. Mehr »[/vc_column_text][/vc_column_inner][/vc_row_inner][vc_empty_space height=“20px“][vc_separator type=“normal“][/vc_column][vc_column width=“1/3″ css=“.vc_custom_1600792507137{background-color: #f9f5ee !important;border-radius: 3px !important;}“][vc_empty_space height=“20px“]\n    \n					\n						\n			\n							\n		\n					\n			\n	\n					\n				Allgemeine Informationen			\n					\n[vc_empty_space height=“20px“]\n    \n					\n						\n			\n							\n		\n					\n			\n	\n					\n				Anreise und Parkplätze			\n					\n[vc_empty_space height=“20px“]\n    \n					\n						\n			\n							\n		\n					\n			\n	\n					\n				Download Flyer			\n					\n[vc_empty_space height=“20px“]\n    \n					\n						\n			\n							\n		\n					\n			\n	\n					\n				Unterkunft buchen			\n					\n[vc_empty_space height=“20px“][/vc_column][/vc_row]
URL:https://schleife.seiten-reich.de/veranstaltungen/inspirationstag-fuer-pfarrer
LOCATION:Stiftung Schleife\, Pflanzschulstrasse 17\, CH-Winterthur\, 8400\, Schweiz
CATEGORIES:Inspirationstage
ATTACH;FMTTYPE=image/jpeg:https://schleife.seiten-reich.de/wp-content/uploads/2020/12/Ernst-Gysel_Inspirationstag-fuer-Pfarrer.jpg
ORGANIZER;CN="Stiftung%20Schleife":MAILTO:office@schleife.ch
END:VEVENT
END:VCALENDAR