BEGIN:VCALENDAR
VERSION:2.0
PRODID:-//Stiftung Schleife - ECPv5.9.0//NONSGML v1.0//EN
CALSCALE:GREGORIAN
METHOD:PUBLISH
X-WR-CALNAME:Stiftung Schleife
X-ORIGINAL-URL:https://schleife.seiten-reich.de
X-WR-CALDESC:Veranstaltungen für Stiftung Schleife
BEGIN:VTIMEZONE
TZID:Europe/Zurich
BEGIN:DAYLIGHT
TZOFFSETFROM:+0100
TZOFFSETTO:+0200
TZNAME:CEST
DTSTART:20200329T010000
END:DAYLIGHT
BEGIN:STANDARD
TZOFFSETFROM:+0200
TZOFFSETTO:+0100
TZNAME:CET
DTSTART:20201025T010000
END:STANDARD
END:VTIMEZONE
BEGIN:VEVENT
DTSTART;TZID=Europe/Zurich:20201120T200000
DTEND;TZID=Europe/Zurich:20201122T130000
DTSTAMP:20260424T151629
CREATED:20200830T082354Z
LAST-MODIFIED:20210123T085332Z
UID:8647-1605902400-1606050000@schleife.seiten-reich.de
SUMMARY:MÄNNERWOCHENENDE
DESCRIPTION:[vc_row css_animation=““ row_type=“row“ use_row_as_full_screen_section=“no“ type=“full_width“ angled_section=“no“ text_align=“left“ background_image_as_pattern=“without_pattern“][vc_column][vc_separator type=“normal“][/vc_column][/vc_row][vc_row css_animation=““ row_type=“row“ use_row_as_full_screen_section=“no“ type=“full_width“ angled_section=“no“ text_align=“left“ background_image_as_pattern=“without_pattern“ z_index=““ background_color=“#f9f5ee“][vc_column width=“1/2″][vc_empty_space][vc_column_text] \nWAS IST DEINE MISSION?\n  \nMann braucht etwas\, wofür das Herz brennt. \nWir Männer brauchen eine Mission − einen Auftrag\, eine Leidenschaft\, ein grösseres Ziel. Etwas\, das über unsere alltäglichen Pflichten und Erwartungen hinausgeht.\nElon Musk baut Raketen und möchte damit zum Mars fliegen. Hudson Taylor veränderte durch sein Leben China. Andere Männer setzen sich für einen neuen Radweg ein\,\nunterhalten einen Blog\, machen Politik oder verändern auf eine andere Art die Welt. \nWenn wir als Männer das richtige Fundament haben\, können wir uns mit Jesus den persönlichen Herausforderungen stellen und uns an Neues wagen. \nMänner\, ihr seid ganz herzlich willkommen! \nMarc Osenberg und das Schleife Männer Team \n\nINFORMATIONEN ZUM SEMINAR\n  \nDatum: FR–SO\, 20.–22. November 2020 \nSeminarzeiten: \n\nFR\, 19.00–21.30 Uhr\nSA\, 09.00–21.30 Uhr\nSO\, 09.00–12.00 Uhr\n\n\nOrt: Stiftung Schleife \n  \nPreis: \n\nEinzelperson: CHF 150.– / EUR 135.–\nVater-Sohn-Angebot: 240.– / EUR 216.–\n\n  \nRabatte: 20%-Rabatt für Vater-Sohn sowie Schüler/Auszubildende/Studenten. Ab 5 Personen erhalten Sie einen Gruppenrabatt\, bitte direkt beim Office anmelden (office@schleife.ch / 052 233 60 80). \nKollekten: Wir erheben eine freiwillige Kollekte. \nVerpflegung: Die Schleife-Küche bietet leckere Snacks und feine Menus zu einem guten Preis an. \nWeiteres: Wir werden auch in der Natur unterwegs sein\, bitte gute Schuhe und dem Wetter angepasste Kleidung mitnehmen. \nLeitung: Marc Osenberg \n[/vc_column_text][vc_empty_space height=“20px“][vc_separator type=“normal“][vc_column_text] \nKLEINGRUPPEN\n  \nDer persönliche Austausch in Kleingruppen ist ein wesentlicher Bestandteil des Wochenendes. Für vertrauensvolle\, bereichernde Gespräche bleiben die Gruppen in der gleichen Zusammensetzung.[/vc_column_text][vc_separator type=“normal“][vc_column_text] \n\nSTATIONEN & GEISTLICHE WELLNESS\n  \n\nMan(n) kann mehrere Stationen besuchen: \n\nProphetisches Gebet\nFusswaschung\nEngagiert in Politik\nUnternehmer mit Mission\nGeistliche Unterscheidung bei Verschwörungstheorien\n\nDie definitive Liste folgt hier… \n[/vc_column_text][vc_separator type=“normal“][vc_column_text] \n\nPROGRAMM\n  \n\nFr\, 20. November 2020 \n\n19.00 – 20.30 Uhr     Welcome / Interview Martin Rohsmann\n20.30 – 21.30 Uhr     Kleingruppe\nab 21.30 Uhr              Gemütlicher Ausklang mit Käse\, Fleisch\, Bier und Wein\n\n  \nSa\, 21. November 2020 \n\n09.00 – 11.30 Uhr    Worship / Input Marcel «Mäse» Hager\n11.30 – 12.30 Uhr    Kleingruppe\n12.30 – 14.00 Uhr    Mittagessen\n14.00 – 17.00 Uhr    Workshops & geistliche Wellness\n18.00 – 19.00 Uhr    Abendessen\n19.00 – 20.30 Uhr    Input Marcel «Mäse» Hager\n20.30 – 21.30 Uhr     Kleingruppe\n\n  \nSo\, 22. November 2020 \n\n07.00 – 09:00 Uhr    Fakultative Morgenwanderung auf den Schauenberg\n(bitte gute Schuhe & dem Wetter angepasste Kleidung mitnehmen!)\n09.00 – 10.30 Uhr    Worship / Input Martin Rohsmann\n11.00 – 12.00 Uhr    Zeugnisse & Aussendung\n\n[/vc_column_text][vc_empty_space][/vc_column][vc_column width=“1/2″][vc_empty_space][vc_column_text] \nReferenten\n[/vc_column_text][vc_empty_space][vc_row_inner row_type=“row“ type=“full_width“ text_align=“left“ css_animation=““][vc_column_inner width=“1/6″][vc_single_image image=“8985″ qode_css_animation=““][/vc_column_inner][vc_column_inner width=“5/6″][vc_column_text]Marc Osenberg leitet die Männerarbeit der Schleife und engagiert sich zudem als Stiftungsrat. Der studierte Diplombetriebswirt arbeitet als Software Architect bei einer Versicherung in Zürich. Geboren in Lüdenscheid (D)\, wohnt Marc Osenberg (47) heute mit seiner Frau Anne und den drei Kindern in Winterthur. Ihn begeistert\, wie die Teilnehmer der Männerwochenenden neu durchstarten mit Gott und positiv verändert zurück in den Alltag gehen.[/vc_column_text][/vc_column_inner][/vc_row_inner][vc_row_inner row_type=“row“ type=“full_width“ text_align=“left“ css_animation=““][vc_column_inner width=“1/6″][vc_single_image image=“8986″ qode_css_animation=““][/vc_column_inner][vc_column_inner width=“5/6″][vc_column_text]Marcel «Mäse» Hager (CH) ist Gründer und Inhaber von «Hager Coaching und Training»\, Autor von Büchern wie  «Mann\, unrasiert»\, Leiter der Bewegung 4M (der 4te Musketier) Schweiz und Initiator von men-in-motion 2021.[/vc_column_text][/vc_column_inner][/vc_row_inner][vc_row_inner row_type=“row“ type=“full_width“ text_align=“left“ css_animation=““][vc_column_inner width=“1/6″][vc_single_image image=“8987″ qode_css_animation=““][/vc_column_inner][vc_column_inner width=“5/6″][vc_column_text]Martin Rohsmann (Berlin) ist im Vorstand der Stiftung Hope\, war lange Jahre Leiter von «HELP international» und versteht es\, Männer weltweit in ihrer persönlichen Mission zu begleiten.[/vc_column_text][/vc_column_inner][/vc_row_inner][vc_empty_space][vc_row_inner row_type=“row“ type=“full_width“ text_align=“left“ css_animation=““ background_color=“#ffffff“][vc_column_inner][vc_empty_space]\n    \n					\n						\n			\n							\n		\n					\n			\n	\n					\n				ONLINE ANMELDEN			\n							\n				Wir empfehlen eine frühzeitige Online-Anmeldung. Diese ist bis spätestens 2 Arbeitstage vor Veranstaltungsbeginn möglich\, danach aus organisatorischen Gründen nicht mehr. Bitte beachten Sie die allgemeinen Infos.			 \n			\n[/vc_column_inner][/vc_row_inner][vc_empty_space]\n		\n		\n			Programm		\n		\n							\n					\n						Fr\, 20. November 2020					\n					\n											\n				\n							\n					\n						19.00 - 20.30 Uhr					\n					\n						Welcome / Interview					\n				\n							\n					\n						20.30 - 21.30 Uhr					\n					\n						Kleingruppen					\n				\n							\n					\n						ab 21.30 Uhr					\n					\n						Gemütlicher Ausklang mit Käse\, Fleisch\, Bier und Wein					\n				\n							\n					\n						Sa\, 21. November 2020					\n					\n											\n				\n							\n					\n						09.00 – 11.30 Uhr					\n					\n						 Worship / Input Marcel «Mäse» Hager					\n				\n							\n					\n						11.30 – 12.30 Uhr 					\n					\n						Kleingruppe					\n				\n							\n					\n						12.30 – 14.00 Uhr					\n					\n						Mittagessen					\n				\n							\n					\n						14.00 – 17.00 Uhr   					\n					\n						Workshops & geistliche Wellness					\n				\n							\n					\n						18.00 – 19.00 Uhr					\n					\n						Abendessen					\n				\n							\n					\n						19.00 – 20.30 Uhr 					\n					\n						Input Marcel «Mäse» Hager					\n				\n							\n					\n						20.30 – 21.30 Uhr					\n					\n						Kleingruppe					\n				\n							\n					\n						So\, 22. November 2020					\n					\n											\n				\n							\n					\n						07.00 – 09:00 Uhr  					\n					\n						Fakultative Morgenwanderung auf den Schauenberg (bitte gute Schuhe & dem Wetter angepasste Kleidung mitnehmen!)					\n				\n							\n					\n						09.00 – 10.30 Uhr					\n					\n						Worship / Input Martin Rohsmann					\n				\n							\n					\n						11.00 – 12.00 Uhr 					\n					\n						Zeugnisse & Aussendung					\n				\n					\n	\n	[vc_empty_space height=“40px“][vc_row_inner row_type=“row“ type=“full_width“ text_align=“left“ css_animation=““ background_color=“#ffffff“][vc_column_inner width=“1/2″]\n    \n					\n						\n			\n							\n		\n					\n			\n	\n					\n				ALLGEMEINE INFORMATIONEN			\n					\n\n    \n					\n						\n			\n							\n		\n					\n			\n	\n					\n				ANREISE & PARKPLÄTZE			\n					\n[/vc_column_inner][vc_column_inner width=“1/2″]\n    \n					\n						\n			\n							\n		\n					\n			\n	\n					\n				DOWNLOAD FLYER			\n					\n\n    \n					\n						\n			\n							\n		\n					\n			\n	\n					\n				UNTERKUNFT BUCHEN			\n					\n[/vc_column_inner][/vc_row_inner][vc_row_inner row_type=“row“ type=“full_width“ text_align=“left“ css_animation=““][vc_column_inner width=“1/2″][/vc_column_inner][vc_column_inner width=“1/2″][vc_empty_space][vc_column_text] \nDies könnte sie auch interessieren\n[/vc_column_text][vc_empty_space height=“20px“][vc_single_image image=“8904″ img_size=“medium“ qode_css_animation=““][vc_empty_space]Jetzt bestellen[vc_empty_space][/vc_column_inner][/vc_row_inner][/vc_column][/vc_row]
URL:https://schleife.seiten-reich.de/veranstaltungen/maennerwochenende
LOCATION:Stiftung Schleife\, Pflanzschulstrasse 17\, CH-Winterthur\, 8400\, Schweiz
CATEGORIES:Seminar
ATTACH;FMTTYPE=image/jpeg:https://schleife.seiten-reich.de/wp-content/uploads/2020/08/Maennerwochenende-2020_Agenda_heller.jpg
ORGANIZER;CN="Stiftung%20Schleife":MAILTO:office@schleife.ch
END:VEVENT
END:VCALENDAR