BEGIN:VCALENDAR
VERSION:2.0
PRODID:-//Stiftung Schleife - ECPv5.9.0//NONSGML v1.0//EN
CALSCALE:GREGORIAN
METHOD:PUBLISH
X-WR-CALNAME:Stiftung Schleife
X-ORIGINAL-URL:https://schleife.seiten-reich.de
X-WR-CALDESC:Veranstaltungen für Stiftung Schleife
BEGIN:VTIMEZONE
TZID:Europe/Zurich
BEGIN:DAYLIGHT
TZOFFSETFROM:+0100
TZOFFSETTO:+0200
TZNAME:CEST
DTSTART:20210328T010000
END:DAYLIGHT
BEGIN:STANDARD
TZOFFSETFROM:+0200
TZOFFSETTO:+0100
TZNAME:CET
DTSTART:20211031T010000
END:STANDARD
END:VTIMEZONE
BEGIN:VEVENT
DTSTART;VALUE=DATE:20210414
DTEND;VALUE=DATE:20210419
DTSTAMP:20260424T135128
CREATED:20201203T125455Z
LAST-MODIFIED:20210131T100106Z
UID:10531-1618365600-1618711199@schleife.seiten-reich.de
SUMMARY:MALWERKSTATT
DESCRIPTION:[vc_row css_animation=““ row_type=“row“ use_row_as_full_screen_section=“no“ type=“full_width“ angled_section=“no“ text_align=“left“ background_image_as_pattern=“without_pattern“][vc_column][vc_separator type=“normal“][/vc_column][/vc_row][vc_row css_animation=““ row_type=“row“ use_row_as_full_screen_section=“no“ type=“grid“ angled_section=“no“ text_align=“left“ background_image_as_pattern=“without_pattern“ z_index=““][vc_column width=“2/3″][vc_empty_space height=“20px“]ANMELDUNG AUF WARTELISTEDie Malwerkstatt 2021 ist ausgebucht\, wir nehmen jedoch gerne Online-Anmeldungen auf Warteliste entgegen. Falls sich freie Plätze ergeben\, melden wir uns bei Ihnen. Bitte beachten Sie die allgemeinen Infos. ANMELDUNG AUF WARTELISTE[vc_separator type=“normal“][vc_column_text] \nWEITERBILDUNG «BEGLEITUNG BEIM MALEN»\n  \nWir lernen\, wie wir Menschen im Malen auf kreative Weise begleiten. Unsere eigenen Erfahrungen im seelsorgerlichen Bereich helfen\, die inneren Prozesse während des Malens zu erkennen. Durch Bilder\, Farben und Formen werden Gefühle\, Erinnerungen und Erfahrungen geweckt und ausgedrückt. Was wir malen oder erschaffen\, spricht zu uns. Es ist unser Ziel\, Farbe ins Leben zu bringen\, Neues zu entdecken sowie berührt und ermutigt vom Heiligen Geist echt und frei zu werden.[/vc_column_text][vc_column_text]Leitung: Michèle Rossi[/vc_column_text][vc_empty_space height=“20px“][vc_single_image image=“10495″ img_size=“medium“ qode_css_animation=““][vc_column_text]Michèle Rossi[/vc_column_text][vc_empty_space height=“20px“][vc_separator type=“normal“][vc_row_inner row_type=“row“ type=“full_width“ text_align=“left“ css_animation=““][vc_column_inner][vc_empty_space]\n	\n			\n	    \n		    ONLINE ANMELDEN	    \n	    \n		    \n		    	\n			    				    \n		    \n		    	    \n	\n			\n			\n			\n			\n		\n	[vc_empty_space][vc_empty_space height=“20px“][/vc_column_inner][/vc_row_inner]\n	\n\n	    \n        INFORMATIONEN ZUR WERKSTATT    \n\n\n    \n        \n        \n    \n\n\n\n    \n        [vc_column_text] \nDatum: MI–SA\, 14.–17. April 2021 (ausgebucht – Anmeldung auf Warteliste) \nSeminarzeiten: \nMittwoch-Freitag\, 9.00-17.00 Uhr \nSamstag\, 9.00-12.00 Uhr \n  \nOrt: Familienwerkstatt\, Tösstalstrasse 49\, 8400 Winterthur (Rotes Haus\, neben Schleife Gebäude) \nLeitung: Michèle Rossi \nPreis: CHF 400.– / EUR 340.– \n[/vc_column_text]    \n\n\n	    \n        ANMELDUNG / VORAUSSETZUNG    \n\n\n    \n        \n        \n    \n\n\n\n    \n        [vc_column_text] \nFür alle\, die Erfahrung haben im Malen und in der Begleitung von Menschen. \nDie Anmeldung erfolgt mit dem entsprechenden Formular unten. Dieses wird geprüft und es folgt eine schriftliche Bestätigung\, dass Sie einen Platz in der Malwerkstatt haben. \nDie Teilnehmerzahl ist beschränkt. \n[/vc_column_text]    \n\n\n	    \n        ABMELDUNG    \n\n\n    \n        \n        \n    \n\n\n\n    \n        [vc_column_text] \nBei Abmeldung verrechnen wir eine Bearbeitungsgebühr von CHF 30.–. Ab 30 Tagen vor Beginn der Malwerkstatt verrechnen wir CHF 200.–. \n[/vc_column_text]    \n\n\n	    \n        WEITERE INFORMATIONEN ZUR MALWERKSTATT    \n\n\n    \n        \n        \n    \n\n\n\n    \n        [vc_column_text] \n\nPRAXISNAH\n\nLernen auf zwei Ebenen: \nWas wir selber erfahren\, prägt und überzeugt uns. Jede/r Teilnehmer/in arbeitet während dieser Tage an sich selber – «Seelsorgerliche Prozesse während des Malens erfahren». \nWir lernen\, einander in Gesprächen und im Malen zu begleiten – «Malen mit Begleitung» \n\nTHEMEN \n– Verständnis von «Malen mit Begleitung» \n– Menschenbild: Von innen nach aussen malen \n– Metaphern: ein problemunabhängiges Bild schaffen \n– Symbolik: Formen\, Farben\, Handlungen \n– Phasen beim Begleiten: Vorbereitung\, Einstieg und Abschluss/Interventionen während des Malens \n– Chancen und Grenzen der Malbegleitung\, z.B. Malen mit psychisch Kranken \n– Die Person des Begleiters \n– Protokollieren: eigene Erfahrungen während des Malens / Beobachtungen als Begleiter \n– Fürbitte: Geistliche Hilfe und Wegweisung im «Malen mit Begleitung» \n– Materialien[/vc_column_text]    \n[vc_empty_space height=“20px“][vc_separator type=“normal“][vc_empty_space height=“20px“][/vc_column][vc_column width=“1/3″ css=“.vc_custom_1600792507137{background-color: #f9f5ee !important;border-radius: 3px !important;}“][vc_empty_space height=“20px“]\n    \n					\n						\n			\n							\n		\n					\n			\n	\n					\n				Allgemeine Informationen			\n					\n[vc_empty_space height=“20px“]\n    \n					\n						\n			\n							\n		\n					\n			\n	\n					\n				Anreise und Parkplätze			\n					\n[vc_empty_space height=“20px“]\n    \n					\n						\n			\n							\n		\n					\n			\n	\n					\n				Download Flyer			\n					\n[vc_empty_space height=“20px“]\n    \n					\n						\n			\n							\n		\n					\n			\n	\n					\n				Unterkunft buchen			\n					\n[vc_empty_space height=“20px“][/vc_column][/vc_row]
URL:https://schleife.seiten-reich.de/veranstaltungen/malwerkstatt
LOCATION:Familienwerkstatt\, Rotes Haus / Pflanzschulstrasse 17\, Winterthur\, 8400\, Schweiz
CATEGORIES:Familienwerkstatt,Malen
ATTACH;FMTTYPE=image/jpeg:https://schleife.seiten-reich.de/wp-content/uploads/2020/12/Malwerkstatt_Angebote-e1612090849168.jpg
ORGANIZER;CN="Stiftung%20Schleife":MAILTO:office@schleife.ch
END:VEVENT
END:VCALENDAR