BEGIN:VCALENDAR
VERSION:2.0
PRODID:-//Stiftung Schleife - ECPv5.9.0//NONSGML v1.0//EN
CALSCALE:GREGORIAN
METHOD:PUBLISH
X-WR-CALNAME:Stiftung Schleife
X-ORIGINAL-URL:https://schleife.seiten-reich.de
X-WR-CALDESC:Veranstaltungen für Stiftung Schleife
BEGIN:VTIMEZONE
TZID:Europe/Zurich
BEGIN:DAYLIGHT
TZOFFSETFROM:+0100
TZOFFSETTO:+0200
TZNAME:CEST
DTSTART:20210328T010000
END:DAYLIGHT
BEGIN:STANDARD
TZOFFSETFROM:+0200
TZOFFSETTO:+0100
TZNAME:CET
DTSTART:20211031T010000
END:STANDARD
BEGIN:DAYLIGHT
TZOFFSETFROM:+0100
TZOFFSETTO:+0200
TZNAME:CEST
DTSTART:20220327T010000
END:DAYLIGHT
BEGIN:STANDARD
TZOFFSETFROM:+0200
TZOFFSETTO:+0100
TZNAME:CET
DTSTART:20221030T010000
END:STANDARD
END:VTIMEZONE
BEGIN:VEVENT
DTSTART;TZID=Europe/Zurich:20211110T200000
DTEND;TZID=Europe/Zurich:20220709T210000
DTSTAMP:20260424T135614
CREATED:20210504T112833Z
LAST-MODIFIED:20211001T131050Z
UID:12343-1636574400-1657400400@schleife.seiten-reich.de
SUMMARY:WERKSTATT FÜR SEELSORGER 2021/2022
DESCRIPTION:[vc_row css_animation=““ row_type=“row“ use_row_as_full_screen_section=“no“ type=“full_width“ angled_section=“no“ text_align=“left“ background_image_as_pattern=“without_pattern“][vc_column][vc_separator type=“normal“][/vc_column][/vc_row][vc_row css_animation=““ row_type=“row“ use_row_as_full_screen_section=“no“ type=“grid“ angled_section=“no“ text_align=“left“ background_image_as_pattern=“without_pattern“ z_index=““][vc_column width=“2/3″][vc_empty_space height=“20px“][vc_column_text] \n\n\n\nFUNDIERT – BIBLISCH – NATÜRLICH/ÜBERNATÜRLICH – PRAXISNAH\n\n\nDie Seelsorgeausbildung umfasst das «Seminar für neue Lebensperspektiven»\, einen Einführungsblock (3 Tage) und 6 Ausbildungsblöcke (13 Tage). Die fundierten und praxisnah vermittelten Themen bewirken Veränderung am eigenen Leben und lehren\, wie der Seelsorger mit verschiedenen Werkzeugen Menschen in Gesprächen dienen kann. Die gesamte Ausbildung entspricht den Anforderungen des ACC Level I „begleitende Seelsorge“. Es besteht die Möglichkeit nach Abschluss der Ausbildung an einem Qualifikationstag in der Schleife die Zulassung für die Akkreditierung bei ACC zu erwerben. Den Detailflyer können Sie hier herunterladen oder im Sekretariat der Stiftung Schleife anfordern.\n\n\n\nWeitere Informationen zu Themen\, Schwerpunkten und Praxis erhalten Sie hier. \nLeitung: Rolf Germann\n\n\n[/vc_column_text][vc_empty_space height=“20px“][vc_single_image image=“8954″ img_size=“medium“ qode_css_animation=““][vc_column_text] \nRolf Germann \n[/vc_column_text][vc_separator type=“normal“][vc_empty_space]\n	\n\n	    \n        INFORMATIONEN ZUM SEMINAR    \n\n\n    \n        \n        \n    \n\n\n\n    \n        [vc_column_text]Daten Werkstatt 2021/22: \nSeminar für neue Lebensperspektiven: \n\n10.–13.11.2020: MI\, 19.00 – 21.30 Uhr // DO/FR\, 9.30 – 21.30 Uhr // SA\, 9.30 – 17.00 Uhr\n\n  \nEinführungsblock:  \n\n27.–29.1.2021: DO/FR\, 09.00 – 20.00 Uhr / SA\, 09.00 – 18.00 Uhr\n\n  \n6 Blöcke: \n\n25./26.2.2022: FR\, 09.00 – 20.00 Uhr / SA\, 09.00 – 18.15 Uhr\n18./19.3.2022: FR\, 09.00 – 20.00 Uhr / SA\, 09.00 – 18.15 Uhr\n8./9.4.2022: FR\, 09.00 – 20.00 Uhr / SA\, 09.00 – 18.15 Uhr\n13./14.5.2022: FR\, 09.00 – 20.00 Uhr / SA\, 09.00 – 18.15 Uhr\n9.–11.6.2022: DO\, 09.00 – 20.00 Uhr / FR\, 09.00 – 21.30 Uhr / SA\, 09.00 – 17.00 Uhr\n8./9.7.2022: FR\, 09.00 – 20.00 Uhr / SA 09.00 – 17.00 Uhr\n\n  \nLeitung: Rolf Germann\, Markus Krauer und Team \nPreis: CHF 2’300.– / EUR 2’100.– \nRabatte: 20%-Rabatt für Ehepaare (bitte getrennt anmelden) sowie Schüler/Auszubildende/Studenten. Ab 5 Personen erhalten Sie einen Gruppenrabatt\, bitte direkt beim Office anmelden (office@schleife.ch / 052 233 60 80). \nQualifikationstag: CHF 100.– \n  \n  \nEARLY-BIRD-RABATT\nJetzt anmelden: Wir offerieren CHF 150.– / EUR 135.– Rabatt für alle Early Birds (Frühbucher) bei einer Anmeldung bis am 31. August 2021.[/vc_column_text]    \n\n\n	    \n        ANMELDUNG/VORAUSSETZUNGEN    \n\n\n    \n        \n        \n    \n\n\n\n    \n        [vc_column_text] \nFür die Ausbildung ist es von Vorteil\, wenn Sie Erfahrung im Bereich Seelsorge haben\, indem Sie selber bereits Seelsorge in Anspruch genommen und mit anderen Personen seelsorgerliche Gespräche geführt haben. Sie benötigen für die Anmeldung ein Empfehlungsschreiben Ihres Gemeindeleiters (oder Seelsorgers/Mentors). Die Werkstatt für Seelsorger muss als Ganzes besucht werden\, inkl. «Seminar für neue Lebensperspektiven».\nDie Anmeldung erfolgt mit dem Entsprechenden Formular auf dem Flyer (kann auch über das Office angefordert werden) oder über den untenstehenden Link und den erwähnten Beilagen. Nach dem Einreichen der vollständigen Anmeldeunterlagen werden diese geprüft. Es folgt eine schriftliche Bestätigung\, dass Sie einen Platz in der Werkstatt für Seelsorger haben. Bei einer Absage werden Ihnen die Unterlagen zurück geschickt. \nDie Teilnehmerzahl ist beschränkt. \n  Wir empfehlen eine frühzeitige Online-Anmeldung. Diese ist bis spätestens 5 Arbeitsage vor Veranstaltungsbeginn möglich\, danach aus organisatorischen Gründen nicht mehr. Bitte beachten Sie die allgemeinen Infos.[/vc_column_text]    \n\n\n	    \n        ABMELDUNG    \n\n\n    \n        \n        \n    \n\n\n\n    \n        [vc_column_text] \nBei Abmeldung vor Ausbildungsbeginn verrechnen wir eine Bearbeitungsgebühr von CHF 30.–. Bei einer Abmeldung während der Ausbildung müssen wir Ihnen das Kursmaterial\, die bereits stattgefundenen Kurstage und eine Abmeldegebühr von CHF 150.– berechnen.\n[/vc_column_text]    \n[vc_empty_space][/vc_column][vc_column width=“1/3″][vc_empty_space height=“60px“]\n    \n					\n						\n			\n							\n		\n					\n			\n	\n					\n				Allgemeine Informationen			\n					\n[vc_empty_space height=“20px“]\n    \n					\n						\n			\n							\n		\n					\n			\n	\n					\n				Anreise und Parkplätze			\n					\n[vc_empty_space height=“20px“]\n    \n					\n						\n			\n							\n		\n					\n			\n	\n					\n				Download Flyer			\n					\n[vc_empty_space height=“20px“]\n    \n					\n						\n			\n							\n		\n					\n			\n	\n					\n				Unterkunft buchen			\n					\n[vc_empty_space height=“20px“][vc_empty_space][/vc_column][/vc_row]
URL:https://schleife.seiten-reich.de/veranstaltungen/werkstatt-fuer-seelsorger-2021-2022
LOCATION:Stiftung Schleife\, Pflanzschulstrasse 17\, CH-Winterthur\, 8400\, Schweiz
CATEGORIES:Seelsorge
ATTACH;FMTTYPE=image/jpeg:https://schleife.seiten-reich.de/wp-content/uploads/2021/05/Werkstatt_Seelsorger_Beitrag.jpg
ORGANIZER;CN="Stiftung%20Schleife":MAILTO:office@schleife.ch
END:VEVENT
END:VCALENDAR